BEGIN:VCALENDAR
VERSION:2.0
PRODID:icalendar-ruby
CALSCALE:GREGORIAN
METHOD:PUBLISH
BEGIN:VEVENT
DTSTAMP:20260424T103427Z
UID:39-1399162@southoakridge.org
DTSTART:20260729T223000Z
DTEND:20260729T230000Z
CLASS:PUBLIC
CREATED:20260423T214514
DESCRIPTION:Where young men grow in their faith and walk with the Lord. We'
 ll meet upstairs in the main church building.
LAST-MODIFIED:20260423T214514
LOCATION:South Oak Ridge Baptist Church
SUMMARY:Middle and High School Guys
URL;VALUE=URI:https://www.southoakridge.org/events/middle-and-high-school-g
 uys/2026-07-29
ATTACH;FILENAME=cbe86dfc-554f-425e-ba57-092da50ffa46-Bible-Study.jpg;FMTTYP
 E=image/jpeg:https://dq5pwpg1q8ru0.cloudfront.net/2021/10/25/08/54/19/07e4
 1db2-b05c-4e8c-b5e7-eb24e2d48b15/cbe86dfc-554f-425e-ba57-092da50ffa46-Bibl
 e-Study.jpg
END:VEVENT
END:VCALENDAR
