BEGIN:VCALENDAR
VERSION:2.0
PRODID:icalendar-ruby
CALSCALE:GREGORIAN
METHOD:PUBLISH
BEGIN:VEVENT
DTSTAMP:20260422T001703Z
UID:112-1387577@southoakridge.org
DTSTART;VALUE=DATE:20260729
DTEND;VALUE=DATE:20260729
CLASS:PUBLIC
CREATED:20260421T201213
DESCRIPTION:Come for dinner and fellowship\, along with an in-depth Bible S
 tudy. Dinner is served at 5:15 pm\, followed by Bible Study with Justin Ve
 stal at 6:30 pm in the Sanctuary. Every second Wednesday Evening will be s
 et aside as Outreach to Our Community and ministry to our homebound.\n5:15
  - 6:00 pm      Family Dinner\n6:00 - 6:40 pm      Adult Bible Study
 \n6:00 - 6:40 pm      Children (Ages 5-6th Grade)\n6:00 - 6:40 pm    
   Youth Girls (Grades 7-12)\n6:00 - 6:40 pm      Youth Guys (Grades (7
 -12)\n6:45                       Adult Choir\n \n 
LAST-MODIFIED:20260421T201213
LOCATION:Fellowship Hall/ Sanctuary 
SUMMARY:Wednesday Evening Meals and Service
URL;VALUE=URI:https://www.southoakridge.org/events/wednesday-evening-meals-
 and-service/2026-07-29
ATTACH;FILENAME=dinner-buffet-main.jpg;FMTTYPE=image/jpeg:https://dq5pwpg1q
 8ru0.cloudfront.net/2023/01/15/08/08/46/332e4691-c3a7-4d5d-bb0b-1360e1085e
 38/dinner-buffet-main.jpg
END:VEVENT
END:VCALENDAR
